BEGIN:VCALENDAR
VERSION:2.0
PRODID:-//Get Connected New Haven - ECPv6.15.20//NONSGML v1.0//EN
CALSCALE:GREGORIAN
METHOD:PUBLISH
X-ORIGINAL-URL:https://www.getconnectednewhaven.com
X-WR-CALDESC:Events for Get Connected New Haven
REFRESH-INTERVAL;VALUE=DURATION:PT1H
X-Robots-Tag:noindex
X-PUBLISHED-TTL:PT1H
BEGIN:VTIMEZONE
TZID:America/New_York
BEGIN:DAYLIGHT
TZOFFSETFROM:-0500
TZOFFSETTO:-0400
TZNAME:EDT
DTSTART:20150308T070000
END:DAYLIGHT
BEGIN:STANDARD
TZOFFSETFROM:-0400
TZOFFSETTO:-0500
TZNAME:EST
DTSTART:20151101T060000
END:STANDARD
BEGIN:DAYLIGHT
TZOFFSETFROM:-0500
TZOFFSETTO:-0400
TZNAME:EDT
DTSTART:20160313T070000
END:DAYLIGHT
BEGIN:STANDARD
TZOFFSETFROM:-0400
TZOFFSETTO:-0500
TZNAME:EST
DTSTART:20161106T060000
END:STANDARD
BEGIN:DAYLIGHT
TZOFFSETFROM:-0500
TZOFFSETTO:-0400
TZNAME:EDT
DTSTART:20170312T070000
END:DAYLIGHT
BEGIN:STANDARD
TZOFFSETFROM:-0400
TZOFFSETTO:-0500
TZNAME:EST
DTSTART:20171105T060000
END:STANDARD
END:VTIMEZONE
BEGIN:VEVENT
DTSTART;TZID=America/New_York:20160927T180000
DTEND;TZID=America/New_York:20160927T190000
DTSTAMP:20260425T072718
CREATED:20160831T185945Z
LAST-MODIFIED:20160831T185945Z
UID:1109-1474999200-1475002800@www.getconnectednewhaven.com
SUMMARY:Tuesday Evening Meditation
DESCRIPTION:Meditation includes many different techniques to promote self-awareness\, relaxation\, mindfulness\, build internal energy or life force and to develop compassion\, love\, patience\, generosity and forgiveness.
URL:https://www.getconnectednewhaven.com/event/tuesday-evening-meditation-4/
LOCATION:Philip Marrett Room
CATEGORIES:50+,Adults,Lifelong Learning,Loc/main,Locations,Sys/ongoing,Wellness
END:VEVENT
BEGIN:VEVENT
DTSTART;TZID=America/New_York:20160922T100000
DTEND;TZID=America/New_York:20160922T100000
DTSTAMP:20260425T072718
CREATED:20160831T185944Z
LAST-MODIFIED:20160831T185944Z
UID:1098-1474538400-1474538400@www.getconnectednewhaven.com
SUMMARY:Every Mom Matters
DESCRIPTION:Come talk to the New Haven Moms Partnership about their workshops for stress management and mothers entering the workforce. They also have information on family resources. For all New Haven mothers/female caregivers of children under 18.
URL:https://www.getconnectednewhaven.com/event/every-mom-matters-4/
LOCATION:Children’s Program Room
CATEGORIES:Children,Economic Engagement,Lifelong Learning,Loc/main,Locations,Nonprofits,Sys/ongoing,Wellness,Young Minds
END:VEVENT
BEGIN:VEVENT
DTSTART;TZID=America/New_York:20160920T180000
DTEND;TZID=America/New_York:20160920T190000
DTSTAMP:20260425T072718
CREATED:20160831T185943Z
LAST-MODIFIED:20160831T185943Z
UID:1091-1474394400-1474398000@www.getconnectednewhaven.com
SUMMARY:Tuesday Evening Meditation
DESCRIPTION:Meditation includes many different techniques to promote self-awareness\, relaxation\, mindfulness\, build internal energy or life force and to develop compassion\, love\, patience\, generosity and forgiveness.
URL:https://www.getconnectednewhaven.com/event/tuesday-evening-meditation-3/
LOCATION:Philip Marrett Room
CATEGORIES:50+,Adults,Lifelong Learning,Loc/main,Locations,Sys/ongoing,Wellness
END:VEVENT
BEGIN:VEVENT
DTSTART;TZID=America/New_York:20160915T100000
DTEND;TZID=America/New_York:20160915T100000
DTSTAMP:20260425T072718
CREATED:20160831T185942Z
LAST-MODIFIED:20160831T185942Z
UID:1081-1473933600-1473933600@www.getconnectednewhaven.com
SUMMARY:Every Mom Matters
DESCRIPTION:Come talk to the New Haven Moms Partnership about their workshops for stress management and mothers entering the workforce. They also have information on family resources. For all New Haven mothers/female caregivers of children under 18.
URL:https://www.getconnectednewhaven.com/event/every-mom-matters-3/
LOCATION:Children’s Program Room
CATEGORIES:Children,Economic Engagement,Lifelong Learning,Loc/main,Locations,Nonprofits,Sys/ongoing,Wellness,Young Minds
END:VEVENT
BEGIN:VEVENT
DTSTART;TZID=America/New_York:20160913T180000
DTEND;TZID=America/New_York:20160913T190000
DTSTAMP:20260425T072718
CREATED:20160831T185816Z
LAST-MODIFIED:20160831T185816Z
UID:1074-1473789600-1473793200@www.getconnectednewhaven.com
SUMMARY:Tuesday Evening Meditation
DESCRIPTION:Meditation includes many different techniques to promote self-awareness\, relaxation\, mindfulness\, build internal energy or life force and to develop compassion\, love\, patience\, generosity and forgiveness.
URL:https://www.getconnectednewhaven.com/event/tuesday-evening-meditation-2/
LOCATION:Philip Marrett Room
CATEGORIES:50+,Adults,Lifelong Learning,Loc/main,Locations,Sys/ongoing,Wellness
END:VEVENT
BEGIN:VEVENT
DTSTART;TZID=America/New_York:20160908T100000
DTEND;TZID=America/New_York:20160908T100000
DTSTAMP:20260425T072718
CREATED:20160831T185815Z
LAST-MODIFIED:20160831T185815Z
UID:1063-1473328800-1473328800@www.getconnectednewhaven.com
SUMMARY:Every Mom Matters
DESCRIPTION:Come talk to the New Haven Moms Partnership about their workshops for stress management and mothers entering the workforce. They also have information on family resources. For all New Haven mothers/female caregivers of children under 18.
URL:https://www.getconnectednewhaven.com/event/every-mom-matters-2/
LOCATION:Children’s Program Room
CATEGORIES:Children,Economic Engagement,Lifelong Learning,Loc/main,Locations,Nonprofits,Sys/ongoing,Wellness,Young Minds
END:VEVENT
BEGIN:VEVENT
DTSTART;TZID=America/New_York:20160906T180000
DTEND;TZID=America/New_York:20160906T190000
DTSTAMP:20260425T072718
CREATED:20160831T185814Z
LAST-MODIFIED:20160831T185814Z
UID:1056-1473184800-1473188400@www.getconnectednewhaven.com
SUMMARY:Tuesday Evening Meditation
DESCRIPTION:Meditation includes many different techniques to promote self-awareness\, relaxation\, mindfulness\, build internal energy or life force and to develop compassion\, love\, patience\, generosity and forgiveness.
URL:https://www.getconnectednewhaven.com/event/tuesday-evening-meditation/
LOCATION:Philip Marrett Room
CATEGORIES:50+,Adults,Lifelong Learning,Loc/main,Locations,Sys/ongoing,Wellness
END:VEVENT
BEGIN:VEVENT
DTSTART;TZID=America/New_York:20160901T100000
DTEND;TZID=America/New_York:20160901T100000
DTSTAMP:20260425T072718
CREATED:20160831T185813Z
LAST-MODIFIED:20160831T185813Z
UID:1045-1472724000-1472724000@www.getconnectednewhaven.com
SUMMARY:Every Mom Matters
DESCRIPTION:Come talk to the New Haven Moms Partnership about their workshops for stress management and mothers entering the workforce. They also have information on family resources. For all New Haven mothers/female caregivers of children under 18.
URL:https://www.getconnectednewhaven.com/event/every-mom-matters/
LOCATION:Children’s Program Room
CATEGORIES:Children,Economic Engagement,Lifelong Learning,Loc/main,Locations,Nonprofits,Sys/ongoing,Wellness,Young Minds
END:VEVENT
END:VCALENDAR