BEGIN:VCALENDAR
VERSION:2.0
PRODID:-//Get Connected New Haven - ECPv6.15.20//NONSGML v1.0//EN
CALSCALE:GREGORIAN
METHOD:PUBLISH
X-ORIGINAL-URL:https://www.getconnectednewhaven.com
X-WR-CALDESC:Events for Get Connected New Haven
REFRESH-INTERVAL;VALUE=DURATION:PT1H
X-Robots-Tag:noindex
X-PUBLISHED-TTL:PT1H
BEGIN:VTIMEZONE
TZID:America/New_York
BEGIN:DAYLIGHT
TZOFFSETFROM:-0500
TZOFFSETTO:-0400
TZNAME:EDT
DTSTART:20150308T070000
END:DAYLIGHT
BEGIN:STANDARD
TZOFFSETFROM:-0400
TZOFFSETTO:-0500
TZNAME:EST
DTSTART:20151101T060000
END:STANDARD
BEGIN:DAYLIGHT
TZOFFSETFROM:-0500
TZOFFSETTO:-0400
TZNAME:EDT
DTSTART:20160313T070000
END:DAYLIGHT
BEGIN:STANDARD
TZOFFSETFROM:-0400
TZOFFSETTO:-0500
TZNAME:EST
DTSTART:20161106T060000
END:STANDARD
BEGIN:DAYLIGHT
TZOFFSETFROM:-0500
TZOFFSETTO:-0400
TZNAME:EDT
DTSTART:20170312T070000
END:DAYLIGHT
BEGIN:STANDARD
TZOFFSETFROM:-0400
TZOFFSETTO:-0500
TZNAME:EST
DTSTART:20171105T060000
END:STANDARD
END:VTIMEZONE
BEGIN:VEVENT
DTSTART;TZID=America/New_York:20161208T110000
DTEND;TZID=America/New_York:20161208T110000
DTSTAMP:20260420T101644
CREATED:20161122T175749Z
LAST-MODIFIED:20161122T175749Z
UID:1363-1481194800-1481194800@www.getconnectednewhaven.com
SUMMARY:Stay and Play at Mitchell
DESCRIPTION:Stories\, songs and playtime for children ages 0-5 with a parents or caregiver. Please call 203.946.8117 to register.
URL:https://www.getconnectednewhaven.com/event/stay-and-play-at-mitchell-30/
LOCATION:Mitchell Branch
CATEGORIES:Books And Authors,Children,Cultural Connections,Lifelong Learning,Literacy,Loc/mitchell,Locations,Young Minds
END:VEVENT
BEGIN:VEVENT
DTSTART;TZID=America/New_York:20161208T100000
DTEND;TZID=America/New_York:20161208T100000
DTSTAMP:20260420T101644
CREATED:20161122T175749Z
LAST-MODIFIED:20161122T175749Z
UID:1361-1481191200-1481191200@www.getconnectednewhaven.com
SUMMARY:Stay and Play at Mitchell
DESCRIPTION:Stories\, songs and playtime for children ages 0-5 with a parents or caregiver. Please call to register\, 203.946.8117
URL:https://www.getconnectednewhaven.com/event/stay-and-play-at-mitchell-29/
LOCATION:Mitchell Branch
CATEGORIES:Books And Authors,Children,Cultural Connections,Lifelong Learning,Literacy,Loc/mitchell,Locations,Young Minds
END:VEVENT
BEGIN:VEVENT
DTSTART;TZID=America/New_York:20161203T140000
DTEND;TZID=America/New_York:20161203T160000
DTSTAMP:20260420T101644
CREATED:20161122T175747Z
LAST-MODIFIED:20161122T175747Z
UID:1342-1480773600-1480780800@www.getconnectednewhaven.com
SUMMARY:Glance at the World Through Film
DESCRIPTION:Join us for an award winning film from South Korea: Poetry (2010)\nIn Korean with English subtitles.
URL:https://www.getconnectednewhaven.com/event/glance-at-the-world-through-film/
LOCATION:Mitchell Branch
CATEGORIES:50+,Adults,Cultural Connections,Films,Lifelong Learning,Loc/mitchell,Locations
END:VEVENT
BEGIN:VEVENT
DTSTART;TZID=America/New_York:20161201T110000
DTEND;TZID=America/New_York:20161201T110000
DTSTAMP:20260420T101644
CREATED:20161122T175746Z
LAST-MODIFIED:20161122T175746Z
UID:1336-1480590000-1480590000@www.getconnectednewhaven.com
SUMMARY:Stay and Play at Mitchell
DESCRIPTION:Stories\, songs and playtime for children ages 0-5 with a parents or caregiver. Please call 203.946.8117 to register.
URL:https://www.getconnectednewhaven.com/event/stay-and-play-at-mitchell-28/
LOCATION:Mitchell Branch
CATEGORIES:Books And Authors,Children,Cultural Connections,Lifelong Learning,Literacy,Loc/mitchell,Locations,Young Minds
END:VEVENT
BEGIN:VEVENT
DTSTART;TZID=America/New_York:20161201T100000
DTEND;TZID=America/New_York:20161201T100000
DTSTAMP:20260420T101644
CREATED:20161122T175746Z
LAST-MODIFIED:20161122T175746Z
UID:1334-1480586400-1480586400@www.getconnectednewhaven.com
SUMMARY:Stay and Play at Mitchell
DESCRIPTION:Stories\, songs and playtime for children ages 0-5 with a parents or caregiver. Please call to register\, 203.946.8117
URL:https://www.getconnectednewhaven.com/event/stay-and-play-at-mitchell-27/
LOCATION:Mitchell Branch
CATEGORIES:Books And Authors,Children,Cultural Connections,Lifelong Learning,Literacy,Loc/mitchell,Locations,Young Minds
END:VEVENT
BEGIN:VEVENT
DTSTART;TZID=America/New_York:20161124T110000
DTEND;TZID=America/New_York:20161124T110000
DTSTAMP:20260420T101644
CREATED:20160905T123704Z
LAST-MODIFIED:20160905T123704Z
UID:1193-1479985200-1479985200@www.getconnectednewhaven.com
SUMMARY:Stay and Play at Mitchell
DESCRIPTION:Stories\, songs and playtime for children ages 0-5 with a parents or caregiver. Please call 203.946.8117 to register.
URL:https://www.getconnectednewhaven.com/event/stay-and-play-at-mitchell-26/
LOCATION:Mitchell Branch
CATEGORIES:Books And Authors,Children,Cultural Connections,Lifelong Learning,Literacy,Loc/mitchell,Locations,Young Minds
END:VEVENT
BEGIN:VEVENT
DTSTART;TZID=America/New_York:20161124T100000
DTEND;TZID=America/New_York:20161124T100000
DTSTAMP:20260420T101644
CREATED:20160905T123703Z
LAST-MODIFIED:20160905T123703Z
UID:1191-1479981600-1479981600@www.getconnectednewhaven.com
SUMMARY:Stay and Play at Mitchell
DESCRIPTION:Stories\, songs and playtime for children ages 0-5 with a parents or caregiver. Please call to register\, 203.946.8117
URL:https://www.getconnectednewhaven.com/event/stay-and-play-at-mitchell-25/
LOCATION:Mitchell Branch
CATEGORIES:Books And Authors,Children,Cultural Connections,Lifelong Learning,Literacy,Loc/mitchell,Locations,Young Minds
END:VEVENT
BEGIN:VEVENT
DTSTART;TZID=America/New_York:20161117T110000
DTEND;TZID=America/New_York:20161117T110000
DTSTAMP:20260420T101644
CREATED:20160905T123703Z
LAST-MODIFIED:20160905T123703Z
UID:1188-1479380400-1479380400@www.getconnectednewhaven.com
SUMMARY:Stay and Play at Mitchell
DESCRIPTION:Stories\, songs and playtime for children ages 0-5 with a parents or caregiver. Please call 203.946.8117 to register.
URL:https://www.getconnectednewhaven.com/event/stay-and-play-at-mitchell-24/
LOCATION:Mitchell Branch
CATEGORIES:Books And Authors,Children,Cultural Connections,Lifelong Learning,Literacy,Loc/mitchell,Locations,Young Minds
END:VEVENT
BEGIN:VEVENT
DTSTART;TZID=America/New_York:20161117T100000
DTEND;TZID=America/New_York:20161117T100000
DTSTAMP:20260420T101644
CREATED:20160905T123703Z
LAST-MODIFIED:20160905T123703Z
UID:1186-1479376800-1479376800@www.getconnectednewhaven.com
SUMMARY:Stay and Play at Mitchell
DESCRIPTION:Stories\, songs and playtime for children ages 0-5 with a parents or caregiver. Please call to register\, 203.946.8117
URL:https://www.getconnectednewhaven.com/event/stay-and-play-at-mitchell-23/
LOCATION:Mitchell Branch
CATEGORIES:Books And Authors,Children,Cultural Connections,Lifelong Learning,Literacy,Loc/mitchell,Locations,Young Minds
END:VEVENT
BEGIN:VEVENT
DTSTART;TZID=America/New_York:20161110T110000
DTEND;TZID=America/New_York:20161110T110000
DTSTAMP:20260420T101644
CREATED:20160905T123702Z
LAST-MODIFIED:20160905T123702Z
UID:1183-1478775600-1478775600@www.getconnectednewhaven.com
SUMMARY:Stay and Play at Mitchell
DESCRIPTION:Stories\, songs and playtime for children ages 0-5 with a parents or caregiver. Please call 203.946.8117 to register.
URL:https://www.getconnectednewhaven.com/event/stay-and-play-at-mitchell-22/
LOCATION:Mitchell Branch
CATEGORIES:Books And Authors,Children,Cultural Connections,Lifelong Learning,Literacy,Loc/mitchell,Locations,Young Minds
END:VEVENT
BEGIN:VEVENT
DTSTART;TZID=America/New_York:20161110T100000
DTEND;TZID=America/New_York:20161110T100000
DTSTAMP:20260420T101644
CREATED:20160905T123702Z
LAST-MODIFIED:20160905T123702Z
UID:1181-1478772000-1478772000@www.getconnectednewhaven.com
SUMMARY:Stay and Play at Mitchell
DESCRIPTION:Stories\, songs and playtime for children ages 0-5 with a parents or caregiver. Please call to register\, 203.946.8117
URL:https://www.getconnectednewhaven.com/event/stay-and-play-at-mitchell-21/
LOCATION:Mitchell Branch
CATEGORIES:Books And Authors,Children,Cultural Connections,Lifelong Learning,Literacy,Loc/mitchell,Locations,Young Minds
END:VEVENT
BEGIN:VEVENT
DTSTART;TZID=America/New_York:20161103T110000
DTEND;TZID=America/New_York:20161103T110000
DTSTAMP:20260420T101644
CREATED:20160905T123702Z
LAST-MODIFIED:20160905T123702Z
UID:1178-1478170800-1478170800@www.getconnectednewhaven.com
SUMMARY:Stay and Play at Mitchell
DESCRIPTION:Stories\, songs and playtime for children ages 0-5 with a parents or caregiver. Please call 203.946.8117 to register.
URL:https://www.getconnectednewhaven.com/event/stay-and-play-at-mitchell-20/
LOCATION:Mitchell Branch
CATEGORIES:Books And Authors,Children,Cultural Connections,Lifelong Learning,Literacy,Loc/mitchell,Locations,Young Minds
END:VEVENT
BEGIN:VEVENT
DTSTART;TZID=America/New_York:20161103T100000
DTEND;TZID=America/New_York:20161103T100000
DTSTAMP:20260420T101644
CREATED:20160905T123702Z
LAST-MODIFIED:20160905T123702Z
UID:1176-1478167200-1478167200@www.getconnectednewhaven.com
SUMMARY:Stay and Play at Mitchell
DESCRIPTION:Stories\, songs and playtime for children ages 0-5 with a parents or caregiver. Please call to register\, 203.946.8117
URL:https://www.getconnectednewhaven.com/event/stay-and-play-at-mitchell-19/
LOCATION:Mitchell Branch
CATEGORIES:Books And Authors,Children,Cultural Connections,Lifelong Learning,Literacy,Loc/mitchell,Locations,Young Minds
END:VEVENT
BEGIN:VEVENT
DTSTART;TZID=America/New_York:20161027T110000
DTEND;TZID=America/New_York:20161027T110000
DTSTAMP:20260420T101644
CREATED:20160905T123414Z
LAST-MODIFIED:20160905T123414Z
UID:1171-1477566000-1477566000@www.getconnectednewhaven.com
SUMMARY:Stay and Play at Mitchell
DESCRIPTION:Stories\, songs and playtime for children ages 0-5 with a parents or caregiver. Please call 203.946.8117 to register.
URL:https://www.getconnectednewhaven.com/event/stay-and-play-at-mitchell-18/
LOCATION:Mitchell Branch
CATEGORIES:Books And Authors,Children,Cultural Connections,Lifelong Learning,Literacy,Loc/mitchell,Locations,Young Minds
END:VEVENT
BEGIN:VEVENT
DTSTART;TZID=America/New_York:20161027T100000
DTEND;TZID=America/New_York:20161027T100000
DTSTAMP:20260420T101644
CREATED:20160905T123414Z
LAST-MODIFIED:20160905T123414Z
UID:1168-1477562400-1477562400@www.getconnectednewhaven.com
SUMMARY:Stay and Play at Mitchell
DESCRIPTION:Stories\, songs and playtime for children ages 0-5 with a parents or caregiver. Please call to register\, 203.946.8117
URL:https://www.getconnectednewhaven.com/event/stay-and-play-at-mitchell-17/
LOCATION:Mitchell Branch
CATEGORIES:Books And Authors,Children,Cultural Connections,Lifelong Learning,Literacy,Loc/mitchell,Locations,Young Minds
END:VEVENT
BEGIN:VEVENT
DTSTART;TZID=America/New_York:20161020T110000
DTEND;TZID=America/New_York:20161020T110000
DTSTAMP:20260420T101644
CREATED:20160905T123412Z
LAST-MODIFIED:20160905T123412Z
UID:1159-1476961200-1476961200@www.getconnectednewhaven.com
SUMMARY:Stay and Play at Mitchell
DESCRIPTION:Stories\, songs and playtime for children ages 0-5 with a parents or caregiver. Please call 203.946.8117 to register.
URL:https://www.getconnectednewhaven.com/event/stay-and-play-at-mitchell-16/
LOCATION:Mitchell Branch
CATEGORIES:Books And Authors,Children,Cultural Connections,Lifelong Learning,Literacy,Loc/mitchell,Locations,Young Minds
END:VEVENT
BEGIN:VEVENT
DTSTART;TZID=America/New_York:20161020T100000
DTEND;TZID=America/New_York:20161020T100000
DTSTAMP:20260420T101644
CREATED:20160905T123412Z
LAST-MODIFIED:20160905T123412Z
UID:1156-1476957600-1476957600@www.getconnectednewhaven.com
SUMMARY:Stay and Play at Mitchell
DESCRIPTION:Stories\, songs and playtime for children ages 0-5 with a parents or caregiver. Please call to register\, 203.946.8117
URL:https://www.getconnectednewhaven.com/event/stay-and-play-at-mitchell-15/
LOCATION:Mitchell Branch
CATEGORIES:Books And Authors,Children,Cultural Connections,Lifelong Learning,Literacy,Loc/mitchell,Locations,Young Minds
END:VEVENT
BEGIN:VEVENT
DTSTART;TZID=America/New_York:20161013T110000
DTEND;TZID=America/New_York:20161013T110000
DTSTAMP:20260420T101644
CREATED:20160905T123411Z
LAST-MODIFIED:20160905T123411Z
UID:1147-1476356400-1476356400@www.getconnectednewhaven.com
SUMMARY:Stay and Play at Mitchell
DESCRIPTION:Stories\, songs and playtime for children ages 0-5 with a parents or caregiver. Please call 203.946.8117 to register.
URL:https://www.getconnectednewhaven.com/event/stay-and-play-at-mitchell-14/
LOCATION:Mitchell Branch
CATEGORIES:Books And Authors,Children,Cultural Connections,Lifelong Learning,Literacy,Loc/mitchell,Locations,Young Minds
END:VEVENT
BEGIN:VEVENT
DTSTART;TZID=America/New_York:20161013T100000
DTEND;TZID=America/New_York:20161013T100000
DTSTAMP:20260420T101644
CREATED:20160905T123411Z
LAST-MODIFIED:20160905T123411Z
UID:1144-1476352800-1476352800@www.getconnectednewhaven.com
SUMMARY:Stay and Play at Mitchell
DESCRIPTION:Stories\, songs and playtime for children ages 0-5 with a parents or caregiver. Please call to register\, 203.946.8117
URL:https://www.getconnectednewhaven.com/event/stay-and-play-at-mitchell-13/
LOCATION:Mitchell Branch
CATEGORIES:Books And Authors,Children,Cultural Connections,Lifelong Learning,Literacy,Loc/mitchell,Locations,Young Minds
END:VEVENT
BEGIN:VEVENT
DTSTART;TZID=America/New_York:20161006T110000
DTEND;TZID=America/New_York:20161006T110000
DTSTAMP:20260420T101644
CREATED:20160905T123410Z
LAST-MODIFIED:20160905T123410Z
UID:1137-1475751600-1475751600@www.getconnectednewhaven.com
SUMMARY:Stay and Play at Mitchell
DESCRIPTION:Stories\, songs and playtime for children ages 0-5 with a parents or caregiver. Please call 203.946.8117 to register.
URL:https://www.getconnectednewhaven.com/event/stay-and-play-at-mitchell-12/
LOCATION:Mitchell Branch
CATEGORIES:Books And Authors,Children,Cultural Connections,Lifelong Learning,Literacy,Loc/mitchell,Locations,Young Minds
END:VEVENT
BEGIN:VEVENT
DTSTART;TZID=America/New_York:20161006T100000
DTEND;TZID=America/New_York:20161006T100000
DTSTAMP:20260420T101644
CREATED:20160905T123410Z
LAST-MODIFIED:20160905T123410Z
UID:1134-1475748000-1475748000@www.getconnectednewhaven.com
SUMMARY:Stay and Play at Mitchell
DESCRIPTION:Stories\, songs and playtime for children ages 0-5 with a parents or caregiver. Please call to register\, 203.946.8117
URL:https://www.getconnectednewhaven.com/event/stay-and-play-at-mitchell-11/
LOCATION:Mitchell Branch
CATEGORIES:Books And Authors,Children,Cultural Connections,Lifelong Learning,Literacy,Loc/mitchell,Locations,Young Minds
END:VEVENT
BEGIN:VEVENT
DTSTART;TZID=America/New_York:20160929T110000
DTEND;TZID=America/New_York:20160929T110000
DTSTAMP:20260420T101644
CREATED:20160831T185945Z
LAST-MODIFIED:20160831T185945Z
UID:1115-1475146800-1475146800@www.getconnectednewhaven.com
SUMMARY:Stay and Play at Mitchell
DESCRIPTION:Stories\, songs and playtime for children ages 0-5 with a parents or caregiver. Please call 203.946.8117 to register.
URL:https://www.getconnectednewhaven.com/event/stay-and-play-at-mitchell-10/
LOCATION:Mitchell Branch
CATEGORIES:Books And Authors,Children,Cultural Connections,Lifelong Learning,Literacy,Loc/mitchell,Locations,Young Minds
END:VEVENT
BEGIN:VEVENT
DTSTART;TZID=America/New_York:20160929T100000
DTEND;TZID=America/New_York:20160929T100000
DTSTAMP:20260420T101644
CREATED:20160831T185945Z
LAST-MODIFIED:20160831T185945Z
UID:1112-1475143200-1475143200@www.getconnectednewhaven.com
SUMMARY:Stay and Play at Mitchell
DESCRIPTION:Stories\, songs and playtime for children ages 0-5 with a parents or caregiver. Please call to register\, 203.946.8117
URL:https://www.getconnectednewhaven.com/event/stay-and-play-at-mitchell-9/
LOCATION:Mitchell Branch
CATEGORIES:Books And Authors,Children,Cultural Connections,Lifelong Learning,Literacy,Loc/mitchell,Locations,Young Minds
END:VEVENT
BEGIN:VEVENT
DTSTART;TZID=America/New_York:20160922T110000
DTEND;TZID=America/New_York:20160922T110000
DTSTAMP:20260420T101644
CREATED:20160831T185944Z
LAST-MODIFIED:20160831T185944Z
UID:1099-1474542000-1474542000@www.getconnectednewhaven.com
SUMMARY:Stay and Play at Mitchell
DESCRIPTION:Stories\, songs and playtime for children ages 0-5 with a parents or caregiver. Please call 203.946.8117 to register.
URL:https://www.getconnectednewhaven.com/event/stay-and-play-at-mitchell-8/
LOCATION:Mitchell Branch
CATEGORIES:Books And Authors,Children,Cultural Connections,Lifelong Learning,Literacy,Loc/mitchell,Locations,Young Minds
END:VEVENT
BEGIN:VEVENT
DTSTART;TZID=America/New_York:20160922T100000
DTEND;TZID=America/New_York:20160922T100000
DTSTAMP:20260420T101644
CREATED:20160831T185943Z
LAST-MODIFIED:20160831T185943Z
UID:1096-1474538400-1474538400@www.getconnectednewhaven.com
SUMMARY:Stay and Play at Mitchell
DESCRIPTION:Stories\, songs and playtime for children ages 0-5 with a parents or caregiver. Please call to register\, 203.946.8117
URL:https://www.getconnectednewhaven.com/event/stay-and-play-at-mitchell-7/
LOCATION:Mitchell Branch
CATEGORIES:Books And Authors,Children,Cultural Connections,Lifelong Learning,Literacy,Loc/mitchell,Locations,Young Minds
END:VEVENT
BEGIN:VEVENT
DTSTART;TZID=America/New_York:20160915T110000
DTEND;TZID=America/New_York:20160915T110000
DTSTAMP:20260420T101644
CREATED:20160831T185942Z
LAST-MODIFIED:20160831T185942Z
UID:1082-1473937200-1473937200@www.getconnectednewhaven.com
SUMMARY:Stay and Play at Mitchell
DESCRIPTION:Stories\, songs and playtime for children ages 0-5 with a parents or caregiver. Please call 203.946.8117 to register.
URL:https://www.getconnectednewhaven.com/event/stay-and-play-at-mitchell-6/
LOCATION:Mitchell Branch
CATEGORIES:Books And Authors,Children,Cultural Connections,Lifelong Learning,Literacy,Loc/mitchell,Locations,Young Minds
END:VEVENT
BEGIN:VEVENT
DTSTART;TZID=America/New_York:20160915T100000
DTEND;TZID=America/New_York:20160915T100000
DTSTAMP:20260420T101644
CREATED:20160831T185942Z
LAST-MODIFIED:20160831T185942Z
UID:1079-1473933600-1473933600@www.getconnectednewhaven.com
SUMMARY:Stay and Play at Mitchell
DESCRIPTION:Stories\, songs and playtime for children ages 0-5 with a parents or caregiver. Please call to register\, 203.946.8117
URL:https://www.getconnectednewhaven.com/event/stay-and-play-at-mitchell-5/
LOCATION:Mitchell Branch
CATEGORIES:Books And Authors,Children,Cultural Connections,Lifelong Learning,Literacy,Loc/mitchell,Locations,Young Minds
END:VEVENT
BEGIN:VEVENT
DTSTART;TZID=America/New_York:20160908T110000
DTEND;TZID=America/New_York:20160908T110000
DTSTAMP:20260420T101644
CREATED:20160831T185815Z
LAST-MODIFIED:20160831T185815Z
UID:1064-1473332400-1473332400@www.getconnectednewhaven.com
SUMMARY:Stay and Play at Mitchell
DESCRIPTION:Stories\, songs and playtime for children ages 0-5 with a parents or caregiver. Please call 203.946.8117 to register.
URL:https://www.getconnectednewhaven.com/event/stay-and-play-at-mitchell-4/
LOCATION:Mitchell Branch
CATEGORIES:Books And Authors,Children,Cultural Connections,Lifelong Learning,Literacy,Loc/mitchell,Locations,Young Minds
END:VEVENT
BEGIN:VEVENT
DTSTART;TZID=America/New_York:20160908T100000
DTEND;TZID=America/New_York:20160908T100000
DTSTAMP:20260420T101644
CREATED:20160831T185815Z
LAST-MODIFIED:20160831T185815Z
UID:1061-1473328800-1473328800@www.getconnectednewhaven.com
SUMMARY:Stay and Play at Mitchell
DESCRIPTION:Stories\, songs and playtime for children ages 0-5 with a parents or caregiver. Please call to register\, 203.946.8117
URL:https://www.getconnectednewhaven.com/event/stay-and-play-at-mitchell-3/
LOCATION:Mitchell Branch
CATEGORIES:Books And Authors,Children,Cultural Connections,Lifelong Learning,Literacy,Loc/mitchell,Locations,Young Minds
END:VEVENT
BEGIN:VEVENT
DTSTART;TZID=America/New_York:20160901T110000
DTEND;TZID=America/New_York:20160901T110000
DTSTAMP:20260420T101644
CREATED:20160831T185814Z
LAST-MODIFIED:20160831T185814Z
UID:1046-1472727600-1472727600@www.getconnectednewhaven.com
SUMMARY:Stay and Play at Mitchell
DESCRIPTION:Stories\, songs and playtime for children ages 0-5 with a parents or caregiver. Please call 203.946.8117 to register.
URL:https://www.getconnectednewhaven.com/event/stay-and-play-at-mitchell-2/
LOCATION:Mitchell Branch
CATEGORIES:Books And Authors,Children,Cultural Connections,Lifelong Learning,Literacy,Loc/mitchell,Locations,Young Minds
END:VEVENT
END:VCALENDAR